BEGIN:VCALENDAR
VERSION:2.0
PRODID:-//The College of Psychiatrists of Ireland
CALSCALE:GREGORIAN
METHOD:PUBLISH
X-WR-CALNAME:The College of Psychiatrists of Ireland
X-ORIGINAL-URL:https://www.irishpsychiatry.ie/product/nuig-rcsi-inaugural-deanery-day/
X-WR-CALDESC:NUIG / RCSI Inaugural Deanery Day
BEGIN:VEVENT
DTSTART:20170922T093000
DTEND:20170922T163000
SUMMARY:NUIG / RCSI Inaugural Deanery Day
DESCRIPTION:
LOCATION:Hotel Kilmore, Cavan, Ireland
END:VEVENT
END:VCALENDAR
