BEGIN:VCALENDAR
VERSION:2.0
PRODID:-//The College of Psychiatrists of Ireland
CALSCALE:GREGORIAN
METHOD:PUBLISH
X-WR-CALNAME:The College of Psychiatrists of Ireland
X-ORIGINAL-URL:https://www.irishpsychiatry.ie/product/autism-seminar-2017/
X-WR-CALDESC:AUTISM SEMINAR 2017
BEGIN:VEVENT
DTSTART:20171020T091500
DTEND:20171020T153000
SUMMARY:AUTISM SEMINAR 2017
DESCRIPTION:
LOCATION:http://www3.hilton.com/en/hotels/ireland/hilton-dublin-kilmainham-DUBKMHI/index.html
END:VEVENT
END:VCALENDAR
