BEGIN:VCALENDAR
VERSION:2.0
PRODID:-//The College of Psychiatrists of Ireland
CALSCALE:GREGORIAN
METHOD:PUBLISH
X-WR-CALNAME:The College of Psychiatrists of Ireland
X-ORIGINAL-URL:https://www.irishpsychiatry.ie/product/6-external-cpd-credits-ul-midwest-annual-study-day/
X-WR-CALDESC:6 External CPD Credits / UL-Midwest Annual Study Day
BEGIN:VEVENT
DTSTART:20170525T090000
DTEND:20170525T170000
SUMMARY:6 External CPD Credits / UL-Midwest Annual Study Day
DESCRIPTION:
LOCATION:University of Limerick, Limerick, Ireland
END:VEVENT
END:VCALENDAR
