BEGIN:VCALENDAR
VERSION:2.0
PRODID:-//The College of Psychiatrists of Ireland
CALSCALE:GREGORIAN
METHOD:PUBLISH
X-WR-CALNAME:The College of Psychiatrists of Ireland
X-ORIGINAL-URL:https://www.irishpsychiatry.ie/product/joint-meeting-of-the-ulster-paediatric-society-the-royal-college-of-psychiatrists-in-northern-ireland/
X-WR-CALDESC:Joint Meeting of the Ulster Paediatric Society &#038; The Royal College of Psychiatrists in Northern Ireland
BEGIN:VEVENT
DTSTART:20170606T084500
DTEND:20170606T160000
SUMMARY:Joint Meeting of the Ulster Paediatric Society &#038; The Royal College of Psychiatrists in Northern Ireland
DESCRIPTION:
LOCATION:Riddel Hall, Stranmillis Road, Belfast, United Kingdom
END:VEVENT
END:VCALENDAR
