BEGIN:VCALENDAR
VERSION:2.0
PRODID:-//The College of Psychiatrists of Ireland
CALSCALE:GREGORIAN
METHOD:PUBLISH
X-WR-CALNAME:The College of Psychiatrists of Ireland
X-ORIGINAL-URL:https://www.irishpsychiatry.ie/product/faculty-of-forensic-psychiatry-3/
X-WR-CALDESC:Faculty of Forensic Psychiatry
BEGIN:VEVENT
DTSTART:20170901T103000
DTEND:20170901T123000
SUMMARY:Faculty of Forensic Psychiatry
DESCRIPTION:
LOCATION:Central Mental Hospital, Dundrum Road, Dundrum, Ireland
END:VEVENT
END:VCALENDAR
