BEGIN:VCALENDAR
VERSION:2.0
PRODID:-//The College of Psychiatrists of Ireland
CALSCALE:GREGORIAN
METHOD:PUBLISH
X-WR-CALNAME:The College of Psychiatrists of Ireland
X-ORIGINAL-URL:https://www.irishpsychiatry.ie/product/managing-problem-alcohol-drug-use-in-primary-care/
X-WR-CALDESC:Managing Problem Alcohol &#038; Drug Use in Primary Care
BEGIN:VEVENT
DTSTART:20170527T083000
DTEND:20170527T173000
SUMMARY:Managing Problem Alcohol &#038; Drug Use in Primary Care
DESCRIPTION:
LOCATION:St. James's Hospital, Dublin 8, James's Street, D08 NHY1, Ireland
END:VEVENT
END:VCALENDAR
