BEGIN:VCALENDAR
VERSION:2.0
PRODID:-//The College of Psychiatrists of Ireland
CALSCALE:GREGORIAN
METHOD:PUBLISH
X-WR-CALNAME:The College of Psychiatrists of Ireland
X-ORIGINAL-URL:https://www.irishpsychiatry.ie/product/apa-2017-annual-meeting/
X-WR-CALDESC:APA 2017 Annual Meeting
BEGIN:VEVENT
DTSTART:20170520T090000
DTEND:20170524T170000
SUMMARY:APA 2017 Annual Meeting
DESCRIPTION:
LOCATION:San Diego, CA, United States
END:VEVENT
END:VCALENDAR
