BEGIN:VCALENDAR
VERSION:2.0
PRODID:-//The College of Psychiatrists of Ireland
CALSCALE:GREGORIAN
METHOD:PUBLISH
X-WR-CALNAME:The College of Psychiatrists of Ireland
X-ORIGINAL-URL:https://www.irishpsychiatry.ie/product/faculty-of-old-age-psychiatry-2/
X-WR-CALDESC:Faculty of Old Age Psychiatry
BEGIN:VEVENT
DTSTART:20170330T140000
DTEND:20170330T170000
SUMMARY:Faculty of Old Age Psychiatry
DESCRIPTION:
LOCATION:
END:VEVENT
END:VCALENDAR
