BEGIN:VCALENDAR
VERSION:2.0
PRODID:-//The College of Psychiatrists of Ireland
CALSCALE:GREGORIAN
METHOD:PUBLISH
X-WR-CALNAME:The College of Psychiatrists of Ireland
X-ORIGINAL-URL:https://www.irishpsychiatry.ie/product/faculty-of-academic-psychiatry/
X-WR-CALDESC:Faculty of Academic Psychiatry
BEGIN:VEVENT
DTSTART:20170426T110000
DTEND:20170426T120000
SUMMARY:Faculty of Academic Psychiatry
DESCRIPTION:
LOCATION:5 Herbert Street, D02 CK68, Ireland
END:VEVENT
END:VCALENDAR
