BEGIN:VCALENDAR
VERSION:2.0
PRODID:-//The College of Psychiatrists of Ireland
CALSCALE:GREGORIAN
METHOD:PUBLISH
X-WR-CALNAME:The College of Psychiatrists of Ireland
X-ORIGINAL-URL:https://www.irishpsychiatry.ie/product/26th-saint-john-of-god-research-and-evaluation-study-day/
X-WR-CALDESC:26th Saint John of God Research and Evaluation Study Day
BEGIN:VEVENT
DTSTART:20170124T083000
DTEND:20170124T160000
SUMMARY:26th Saint John of God Research and Evaluation Study Day
DESCRIPTION:
LOCATION:St John of God Hospitaller House, Stillorgan, Co. Dublin
END:VEVENT
END:VCALENDAR
